BEGIN:VCALENDAR
VERSION:2.0
PRODID:-//wp-events-plugin.com//7.2.3.1//EN
BEGIN:VEVENT
UID:6@francesbentley.com
DTSTART:20250507T150000Z
DTEND:20250507T190000Z
DTSTAMP:20250413T234455Z
URL:https://francesbentley.com/events/an-evening-with-frances-bentley/
SUMMARY:A Inspirational Talk with Frances Bentley May 7th
DESCRIPTION:\n\nJoin Us for an Uplifting Afternoon at ME\n\nDrop in for a c
 hat from 3pm to 5pm and/or come for the talk at 5.30pm\n\nCome hang out wi
 th us at ME for an inspiring afternoon of real talk\, deep connection\,
  and a sprinkle of retail therapy!\n\nThis heartfelt event is all about a
 uthenticity\, healing\, and community. I’ll be sharing my personal story
 \, raw\, real\, and unfiltered. Followed by a Q&amp\;A session where no to
 pic is off-limits. Whether you’re on your own healing journey\, supporti
 ng someone else\, or simply curious\, you’ll leave feeling seen\, suppor
 ted\, and inspired.\n\n&#x2728\; Expect:\n\n 	A powerful talk that speaks 
 to the soul\n 	Open Q&amp\;A – bring your questions\, your truth\, and y
 our voice\n 	Space to connect with like-minded souls\n 	A chance to browse
  unique retail offerings with a purpose\n\nBook your free ticket here\n\nT
 his is more than an event\, it’s a moment to pause\, reflect\, and remem
 ber that you’re not alone.\n\nLet’s gather\, share\, and grow.\n\nLot
 's of Frances x
ATTACH;FMTTYPE=image/jpeg:https://francesbentley.com/wp-content/uploads/20
 25/04/Eventbrite-banner-for-my-events.-Frances-Bentley-Coach-Bentley-my-ne
 w-book-e1744585993289.png
END:VEVENT
END:VCALENDAR